BEGIN:VCALENDAR
VERSION:2.0
PRODID:-//Safety Products Inc - ECPv6.15.20//NONSGML v1.0//EN
CALSCALE:GREGORIAN
METHOD:PUBLISH
X-WR-CALNAME:Safety Products Inc
X-ORIGINAL-URL:https://spisafety.blog
X-WR-CALDESC:Events for Safety Products Inc
REFRESH-INTERVAL;VALUE=DURATION:PT1H
X-Robots-Tag:noindex
X-PUBLISHED-TTL:PT1H
BEGIN:VTIMEZONE
TZID:UTC
BEGIN:STANDARD
TZOFFSETFROM:+0000
TZOFFSETTO:+0000
TZNAME:UTC
DTSTART:20250101T000000
END:STANDARD
END:VTIMEZONE
BEGIN:VEVENT
DTSTART;VALUE=DATE:20260401
DTEND;VALUE=DATE:20260501
DTSTAMP:20260425T163332
CREATED:20240216T212458Z
LAST-MODIFIED:20251218T181509Z
UID:4977-1775001600-1777593599@spisafety.blog
SUMMARY:Distracted Driving Month 🚗
DESCRIPTION:The month of April is Distracted Driving Month. When you’re behind the wheel\, your only job is to drive. \nView our video on distracted driving awareness. \n#makeamericasafe \n  \n 
URL:https://spisafety.blog/event/distracted-driving-month-%f0%9f%9a%97/
END:VEVENT
END:VCALENDAR